BEGIN:VCALENDAR
VERSION:2.0
PRODID:-//ChamberMaster//Event Calendar 2.0//EN
METHOD:PUBLISH
X-PUBLISHED-TTL:P3D
REFRESH-INTERVAL:P3D
CALSCALE:GREGORIAN
BEGIN:VEVENT
DTSTART;VALUE=DATE:20091113
DTEND;VALUE=DATE:20091114
TRANSP:TRANSPARENT
X-MICROSOFT-CDO-ALLDAYEVENT:TRUE
SUMMARY:TBBA 2010 Planning Retreat
DESCRIPTION:~NEW DATE~ Tampa Bay Builders Association's 2010 Planning Retreat  Each fall our incoming leadership gets together to plan for the next year. We will be going over the by-laws\, handbook\, budgets\, etc. Plus\, this is your opportunity to get to know your fellow board members and have some fun.    Friday\, November 13th 9:00 a.m.- 1:00 p.m. (lunch provided) St. Pete Times 7th Floor Conference Room 1000 N. Ashley Drive\, Suite 700\, Tampa   If you are able to attend the Planning Retreat\, please RSVP to Lana@tbba.net no later than Wednesday\, November 11th. Thank you.    Please contact Jennifer@tbba.net if you are interested in serving as our food sponsor.
X-ALT-DESC;FMTTYPE=text/html:<p>&nbsp\;</p> <div style="text-align: center"><strong><span style="font-size: 14pt\; font-weight: normal">~NEW DATE~</span></strong></div> <div align="center"><strong><span style="font-size: 14pt\; font-weight: normal" /></strong><span style="font-size: 14pt">Tampa</span><span style="font-size: 14pt"> Bay</span><span style="font-size: 14pt"> Builders Association&rsquo\;s 2010 Planning Retreat</span></div> <div align="center"><span style="font-size: 14pt" /></div> <div style="text-align: justify\; margin: 0in 0in 0pt"><span style="font-size: 14pt">Each fall our incoming leadership gets together to plan for the next year. We will be going over the by-laws\, handbook\, budgets\, etc. Plus\, this is your opportunity to get to know your fellow board members and have some fun. </span></div> <div style="margin: 0in 0in 0pt">&nbsp\;</div> <div style="text-align: center\; margin: 0in 0in 0pt" align="center"><strong><span style="font-size: 14pt\; font-weight: normal">Friday\, November 13th</span></strong></div> <div style="text-align: center\; margin: 0in 0in 0pt" align="center"><strong><span style="font-size: 14pt\; font-weight: normal">9:00 a.m.- 1:00 p.m. (lunch provided)</span></strong></div> <div style="text-align: center\; margin: 0in 0in 0pt" align="center"><strong><span style="font-size: 14pt\; font-weight: normal">St. Pete Times 7th Floor Conference Room</span></strong></div> <div style="text-align: center\; margin: 0in 0in 0pt" align="center"><strong><span style="font-size: 14pt\; font-weight: normal">1000 N. Ashley Drive\,&nbsp\;Suite 700</span></strong><strong><span style="font-size: 14pt\; font-weight: normal">\, Tampa</span></strong></div> <div style="text-align: center\; margin: 0in 0in 0pt" align="center">&nbsp\;</div> <div style="text-align: justify\; margin: 0in 0in 0pt"><span style="font-size: 14pt">If you are able to attend the Planning Retreat\, please RSVP to <a title="mailto:Lana@tbba.net" href="mailto:Lana@tbba.net">Lana@tbba.net</a> no later than Wednesday\, November 11th.&nbsp\;Thank you. </span></div> <div style="text-align: justify\; margin: 0in 0in 0pt">&nbsp\;</div> <div style="text-align: justify\; margin: 0in 0in 0pt"><span style="font-size: 14pt">Please contact <a title="mailto:Jennifer@tbba.net" href="mailto:Jennifer@tbba.net">Jennifer@tbba.net</a> if you are interested in serving as our food sponsor.&nbsp\;</span></div>
LOCATION:1000 N Ashley Dr 7th Floor Conference Room Tampa\, FL 33602
UID:e.9442.126
SEQUENCE:3
DTSTAMP:20260420T150432Z
URL:http://tbba.memberzone.com/events/details/tbba-2010-planning-retreat-126
END:VEVENT

END:VCALENDAR
