BEGIN:VCALENDAR
VERSION:2.0
PRODID:-//ChamberMaster//Event Calendar 2.0//EN
METHOD:PUBLISH
X-PUBLISHED-TTL:P3D
REFRESH-INTERVAL:P3D
CALSCALE:GREGORIAN
BEGIN:VEVENT
DTSTART;VALUE=DATE:20080815
DTEND;VALUE=DATE:20080816
TRANSP:TRANSPARENT
X-MICROSOFT-CDO-ALLDAYEVENT:TRUE
SUMMARY:Survivors of the Industry Unite!
DESCRIPTION:TBBA Invites you! Joint Meeting of FAMB\, GTAR\, MBA and TBBA GTAR (Greater Tampa Association of REALTORS)\, West Coast Chapter of FAMB (Florida Association of Mortgage Brokers)\, MBA of Tampa Bay (Mortgage Bankers Association) and TBBA (Tampa Bay Builders Association) invite you to a special educational and networking program featuring a Presidents Panel and keynote speaker\, Dan Duplantis Mortgage and Real State Industry Leaders Panel:  Deborah Farmer\, President\, GTAR  * Jerry Collyer\, President\, West Coast Chapter FAMB  * Deanna Crawford\, President\,MBA Tampa Bay   *  Peggy Templeton\, President\, TBBA   Serving: Hors D'oeuvres   Beer & Wine sponsored by FIRST AMERICAN TITLE Click here for further Information
X-ALT-DESC;FMTTYPE=text/html:<p style="text-align: center"><span style="font-size: xx-large"><span>TBBA Invites you!</span></span></p> <p style="text-align: center"><span style="font-size: x-large">Joint Meeting of FAMB\, GTAR\, MBA and TBBA</span></p> <p style="text-align: center"><span style="font-size: x-large"><span style="font-size: medium">GTAR (Greater Tampa Association of REALTORS)\, West Coast Chapter of FAMB (Florida Association of Mortgage Brokers)\, MBA of Tampa Bay (Mortgage Bankers Association) and TBBA (Tampa Bay Builders Association) invite you to a special educational and networking program featuring a Presidents Panel and keynote speaker\, Dan Duplantis</span></span></p> <p style="text-align: center"><span style="font-size: x-large"><span style="font-size: medium">Mortgage and Real State Industry Leaders Panel:</span></span></p> <p style="text-align: center">&nbsp\;Deborah Farmer\, President\, GTAR&nbsp\; *&nbsp\;Jerry Collyer\, President\, West Coast Chapter FAMB&nbsp\; *</p> <div style="margin: 0in 0in 0pt\; text-align: center">Deanna Crawford\, President\,MBA Tampa Bay &nbsp\;&nbsp\;*&nbsp\; Peggy Templeton\, President\, TBBA</div> <div style="margin: 0in 0in 0pt\; text-align: center">&nbsp\;</div> <div style="margin: 0in 0in 0pt\; text-align: center">Serving: Hors D'oeuvres</div> <div style="margin: 0in 0in 0pt\; text-align: center">&nbsp\;</div> <div style="margin: 0in 0in 0pt\; text-align: center">Beer &amp\; Wine sponsored by FIRST AMERICAN TITLE</div> <p><a href="https://builderfusion.tbba.net/bf/messaging/Suvivors%20of%20the%20Industry%20Unite.pdf">Click here for further Information</a></p>
LOCATION:Greater Tampa Assn of REALTORS 2918 W Kennedy Blvd\, 1st Floor Auditorium Tampa\, FL 33609
UID:e.9442.52
SEQUENCE:3
DTSTAMP:20260423T222657Z
URL:http://tbba.memberzone.com/events/details/survivors-of-the-industry-unite-52
END:VEVENT

END:VCALENDAR
