BEGIN:VCALENDAR
VERSION:2.0
PRODID:-//ChamberMaster//Event Calendar 2.0//EN
METHOD:PUBLISH
X-PUBLISHED-TTL:P3D
REFRESH-INTERVAL:P3D
CALSCALE:GREGORIAN
BEGIN:VEVENT
DTSTART;VALUE=DATE:20080416
DTEND;VALUE=DATE:20080417
TRANSP:TRANSPARENT
X-MICROSOFT-CDO-ALLDAYEVENT:TRUE
SUMMARY:Green Building Made Simple
DESCRIPTION:GreenBuilding Made Simple Wednesday\, April 16\, 2008\, 2:30 p.m.-4:30 p.m.   This course will explain the construction practices of green building\, including energy efficiency\,  indoor air quality\, resource efficiency\, and material selections.   As a graduate of this course\, you will learn:     How to build homes using green building guideline   About new technologies and advanced construction material   How to construct homes that use less energy and water   How to select materials that contribute to improved air quality   Tampa Bay Builders Association Auditorium  2918 West Kennedy Boulevard Tampa\, FL 33609   Instructor\, Drew Smith\, President of Two Trails\, Inc.   This course (CILB 0008612) is approved for 2 Continuing Education credits.
X-ALT-DESC;FMTTYPE=text/html:<p>&nbsp\;</p> <div style="margin: 0in 0in 0pt\; text-align: center" align="center"><b><span style="font-size: 24pt">Green</span></b><b><span style="font-size: 24pt">Building</span></b><b><span style="font-size: 24pt"> Made Simple</span></b></div> <div style="margin: 0in 0in 0pt\; text-align: center" align="center"><b><span style="font-size: 14pt">Wednesday\, April 16\, 2008</span></b><b><span style="font-size: 14pt">\, </span></b><b><span style="font-size: 14pt">2:30 p.m.-4:30 p.m.</span></b></div> <div style="margin: 0in 0in 0pt\; text-align: center" align="center"><b>&nbsp\;</b></div> <div style="margin: 0in 0in 0pt" align="center"><span style="font-size: 10pt">This course will explain the construction practices of green building\, including energy efficiency\, </span></div> <div style="margin: 0in 0in 0pt" align="center"><span style="font-size: 10pt">indoor air quality\, resource efficiency\, and material selections.</span></div> <div style="margin: 0in 0in 0pt">&nbsp\;</div> <div style="margin: 0in 0in 0pt" align="center"><span style="font-size: 10pt">As a graduate of this course\, you will learn:</span></div> <div style="margin: 0in 0in 0pt">&nbsp\;</div> <div style="margin: 0in 0in 0pt\; text-align: center"><span style="font-size: 10pt">&diams\; How to build homes using green building guideline</span></div> <div style="margin: 0in 0in 0pt\; text-align: center"><span style="font-size: 10pt">&diams\; About new technologies and advanced construction m</span><span style="font-size: 10pt">aterial</span></div> <div style="margin: 0in 0in 0pt\; text-align: center"><span style="font-size: 10pt">&diams\; How to construct homes that use less energy and water</span></div> <div style="margin: 0in 0in 0pt\; text-align: center"><span style="font-size: 10pt">&diams\; How to select materials that contribute to improved </span><span style="font-size: 10pt">air quality</span></div> <div style="margin: 0in 0in 0pt\; text-align: center" align="center"><b>&nbsp\;</b></div> <div style="margin: 0in 0in 0pt\; text-align: center" align="center">Tampa Bay Builders Association Auditorium</div> <div style="margin: 0in 0in 0pt\; text-align: center" align="center">&nbsp\;2918 West Kennedy Boulevard</div> <div style="margin: 0in 0in 0pt\; text-align: center" align="center">Tampa\, FL&nbsp\;33609</div> <div style="margin: 0in 0in 0pt" align="center">&nbsp\;</div> <div style="margin: 0in 0in 0pt" align="center">Instructor\, Drew Smith\, President of Two Trails\, Inc.</div> <div style="margin: 0in 0in 0pt" align="center">&nbsp\;</div> <div style="margin: 0in 0in 0pt" align="center">This course (CILB 0008612) is approved for 2 Continuing Education credits.</div> <div style="margin: 0in 0in 0pt">&nbsp\;</div> <p>&nbsp\;</p>                   
LOCATION:
UID:e.9442.29
SEQUENCE:3
DTSTAMP:20260424T070358Z
URL:http://tbba.memberzone.com/events/details/green-building-made-simple-29
END:VEVENT

END:VCALENDAR
