BEGIN:VCALENDAR
VERSION:2.0
PRODID:-//ChamberMaster//Event Calendar 2.0//EN
METHOD:PUBLISH
X-PUBLISHED-TTL:P3D
REFRESH-INTERVAL:P3D
CALSCALE:GREGORIAN
BEGIN:VEVENT
DTSTART:20090423T040000Z
DTEND:20090424T040000Z
X-MICROSOFT-CDO-ALLDAYEVENT:FALSE
SUMMARY:Green Building for Building Professionals
DESCRIPTION:Green Building for Building Professionals Thursday\, April 23\, 2009\, 8:00 a.m.-5:00 p.m. And Friday\, April 24\, 2009\, 8:00 a.m.-5:00 p.m.   This 2-day course is a requirement to earn the National Association of Home Builders Certified Green Building Professional Designation. The other requirement is to take the Business Management for Building Professionals course OR hold an NAHB designation.   This course for building professionals discusses strategies for incorporating green-building principles into homes without driving up the cost of construction. Students will learn how green homes provide buyers with better value\, lower energy costs\, lower maintenance\, better indoor air quality and better long-term value. Techniques are also discussed for competitively differentiating your home products with increased indoor environmental quality as well as energy and resource efficiency.   This course is approved for Continuing Education credit for CAPS\, CGA\, CGB\, CGR\, GMB\, CSP\, Master CSP\, CMP and MIRM.   This course is approved for Designation Program credit for CGA\, CGB\, and CGP.   Course Location: Tampa Bay Builders Association Auditorium 2918 W. Kennedy Boulevard Tampa\, FL 33609   Instructor\, William Varian\, CGR\, CAPS\, President of Wm. J. Varian Construction Co.\, Inc. This course (CILB 0009891) is approved for 15 Continuing Education credits.   TBBA members - $400\, Non-members - $450 Cancellations must be received no later than the close of business day on April 10\, 2009. Click Here to Download Registration Form
X-ALT-DESC;FMTTYPE=text/html:<p>&nbsp\;</p> <div style="margin: 0in 0in 0pt\; text-align: center" align="center"><span style="font-size: small"><b>Green</b><b> Building</b><b> for Building Professionals</b></span></div> <div style="margin: 0in 0in 0pt\; text-align: center" align="center"><span style="font-size: small"><b>Thursday\, April 23\, 2009</b><b>\, 8:00 a.m.-5:00 p.m.</b></span></div> <div style="margin: 0in 0in 0pt\; text-align: center" align="center"><span style="font-size: small"><b>And</b></span></div> <div style="margin: 0in 0in 0pt\; text-align: center" align="center"><span style="font-size: small"><b>Friday\, April 24\, 2009</b><b>\, 8:00 a.m.-5:00 p.m.</b></span></div> <div style="margin: 0in 0in 0pt\; text-align: center" align="center"><b>&nbsp\;</b></div> <div style="margin: 0in 0in 0pt\; text-align: justify"><b>This 2-day course is a requirement to earn the National Association of Home Builders Certified Green Building Professional Designation.&nbsp\;The other requirement is to take the Business Management for Building Professionals course OR hold an NAHB designation.</b></div> <div style="margin: 0in 0in 0pt\; text-align: center" align="center"><b>&nbsp\;</b></div> <div style="margin: 0in 0in 0pt 0.5in">This course for building professionals discusses strategies for incorporating green-building principles into homes without driving up the cost of construction.&nbsp\;Students will learn how green homes provide buyers with better value\, lower energy costs\, lower maintenance\, better indoor air quality and better long-term value.&nbsp\;Techniques are also discussed for competitively differentiating your home products with increased indoor environmental quality as well as energy and resource efficiency.</div> <div style="margin: 0in 0in 0pt 0.5in">&nbsp\;</div> <div style="margin: 0in 0in 0pt 0.5in">This course is approved for Continuing Education credit for CAPS\, CGA\, CGB\, CGR\, GMB\, CSP\, Master CSP\, CMP and MIRM.</div> <div style="margin: 0in 0in 0pt 0.5in">&nbsp\;</div> <div style="margin: 0in 0in 0pt 0.5in">This course is approved for Designation Program credit for CGA\, CGB\, and CGP.</div> <div style="margin: 0in 0in 0pt\; text-align: center" align="center"><b>&nbsp\;</b></div> <div style="margin: 0in 0in 0pt\; text-align: center" align="center"><b>Course Location:</b></div> <div style="margin: 0in 0in 0pt\; text-align: center" align="center"><b>Tampa</b><b> Bay</b><b> Builders Association Auditorium</b></div> <div style="margin: 0in 0in 0pt\; text-align: center" align="center"><b>2918 W. Kennedy Boulevard</b></div> <div style="margin: 0in 0in 0pt\; text-align: center" align="center"><b>Tampa</b><b>\, FL&nbsp\;33609</b></div> <div style="margin: 0in 0in 0pt" align="center">&nbsp\;</div> <div style="margin: 0in 0in 0pt" align="center">Instructor\, William Varian\, CGR\, CAPS\, President of Wm. J. Varian Construction Co.\, Inc.</div> <div style="margin: 0in 0in 0pt" align="center">This course (CILB 0009891) is approved for 15 Continuing Education credits.</div> <div style="margin: 0in 0in 0pt">&nbsp\;</div> <div style="margin: 0in 0in 0pt\; line-height: 12pt" align="center"><span style="font-size: 10pt">TBBA members <span style="color: black">- $400\, Non-members - $450</span></span></div> <div style="margin: 0in 0in 0pt\; line-height: 12pt" align="center"><b><span style="font-size: 10pt\; color: black">Cancellations must be received no later than the close of business day on April 10\, 2009.</span></b></div> <div style="margin: 0in 0in 0pt\; line-height: 12pt" align="center"><b><span style="font-size: 10pt\; color: black"><a href="https://builderfusion.tbba.net/bf/messaging/09%20Green%20Building%20for%20Building%20Professionals%20%282%29.doc">Click Here to Download Registration Form</a></span></b></div>
LOCATION:2918 W Kennedy Blvd Tampa\, FL 33609
UID:e.9442.95
SEQUENCE:3
DTSTAMP:20260421T012354Z
URL:http://tbba.memberzone.com/events/details/green-building-for-building-professionals-04-23-2009-95
END:VEVENT

END:VCALENDAR
