BEGIN:VCALENDAR
VERSION:2.0
PRODID:-//ChamberMaster//Event Calendar 2.0//EN
METHOD:PUBLISH
X-PUBLISHED-TTL:P3D
REFRESH-INTERVAL:P3D
CALSCALE:GREGORIAN
BEGIN:VEVENT
DTSTART;VALUE=DATE:20080710
DTEND;VALUE=DATE:20080711
TRANSP:TRANSPARENT
X-MICROSOFT-CDO-ALLDAYEVENT:TRUE
SUMMARY:Division Presidents & Sales/Marketing Directors Round Table
DESCRIPTION:Division Presidents & Sales/Marketing Directors  Round Table   Thursday\, July 10\, 2008\, 12:00PM     Hosted by:   Pulte Homes\, Inc. 3810 Northdale Blvd. Tampa\, FL 33624   Moderated by Reed Williams of Pulte Homes   Luncheon $20.00 per person-Payment Required in Advance (Please advise of special dietary needs)     Click here to download registration form
X-ALT-DESC;FMTTYPE=text/html:<p>&nbsp\;</p> <div style="margin: 0in 0in 0pt" align="center"><b><i><span style="font-size: 18pt">Division Presidents &amp\; Sales/Marketing Directors</span></i></b></div> <div style="margin: 0in 0in 0pt" align="center"><b><i><span style="font-size: 18pt">&nbsp\;Round Table</span></i></b></div> <div style="margin: 0in 0in 0pt" align="center"><b>&nbsp\;</b></div> <div style="margin: 0in 0in 0pt" align="center"><span style="font-size: 14pt">Thursday\, </span><span style="font-size: 14pt">July 10\, 2008</span><span style="font-size: 14pt">\, </span><span style="font-size: 14pt">12:00PM</span></div> <div style="margin: 0in 0in 0pt" align="center">&nbsp\;</div> <div style="margin: 0in 0in 0pt" align="center">&nbsp\;</div> <div style="margin: 0in 0in 0pt" align="center"><span style="font-size: 14pt">Hosted by:</span></div> <div style="margin: 0in 0in 0pt" align="center">&nbsp\;</div> <div style="margin: 0in 0in 0pt" align="center"><span style="font-size: x-large"><b>Pulte Homes\, Inc.</b></span></div> <div style="margin: 0in 0in 0pt" align="center"><span style="font-size: 14pt">3810 Northdale Blvd.</span></div> <div style="margin: 0in 0in 0pt" align="center"><span style="font-size: 14pt">Tampa</span><span style="font-size: 14pt">\, </span><span style="font-size: 14pt">FL </span><span style="font-size: 14pt">33624</span></div> <div style="margin: 0in 0in 0pt" align="center">&nbsp\;</div> <div style="margin: 0in 0in 0pt" align="center"><span style="font-size: 14pt">Moderated by Reed Williams of Pulte Homes</span></div> <div style="margin: 0in 0in 0pt" align="center">&nbsp\;</div> <div style="margin: 0in 0in 0pt" align="center"><span style="font-size: 14pt">Luncheon $20.00 per person-Payment Required in Advance</span></div> <div style="margin: 0in 0in 0pt" align="center"><span style="font-size: 14pt">(Please advise of special dietary needs)</span></div> <div style="margin: 0in 0in 0pt" align="center"><span style="font-size: 14pt" /></div> <div style="margin: 0in 0in 0pt" align="center"><span style="font-size: 14pt" /><span style="color: #ff0000" /></div> <p>&nbsp\;</p> <p style="text-align: center"><span style="color: #ff0000" /><span style="color: #ff0000"><span><a href="https://builderfusion.tbba.net/bf/messaging/07.10.08%20Round%20Table%20Reg%20Form.doc"><span style="color: #ff0000">Click here to download registration form</span></a></span></span><span style="color: #ff0000" /></p> <p style="text-align: center"><span id="1215108344203E" style="display: none">&nbsp\;</span></p> <p>&nbsp\;</p>
LOCATION:
UID:e.9442.47
SEQUENCE:3
DTSTAMP:20260423T222837Z
URL:http://tbba.memberzone.com/events/details/division-presidents-sales-marketing-directors-round-table-47
END:VEVENT

END:VCALENDAR
