BEGIN:VCALENDAR
VERSION:2.0
PRODID:-//ChamberMaster//Event Calendar 2.0//EN
METHOD:PUBLISH
X-PUBLISHED-TTL:P3D
REFRESH-INTERVAL:P3D
CALSCALE:GREGORIAN
BEGIN:VEVENT
DTSTART;VALUE=DATE:20080423
DTEND;VALUE=DATE:20080424
TRANSP:TRANSPARENT
X-MICROSOFT-CDO-ALLDAYEVENT:TRUE
SUMMARY:Continuing Education: Construction Business Management Workshop
DESCRIPTION:Construction Business Management Workshop This presentation is designed to make the workshop experience interesting\, productive and informative.  Most importantly\, you'll receive the tools and knowledge necessary to help you achieve your elusive goals.      Asset Protection     Team Building     Estate & Tax Planning     Selected Retirement Benefits for you and your Key Executives     Innovative Techniques to Recruit and Retain Employees     Evaluating Risk & Current Liabilities  Construction Business Management (#0008556/#0007380)\, Asset Protection for Contractors (#0008549/#0007378) Includes catered Chicken & Ribs Bar-B-Que lunch! Seminars Presented by: Terry L Stanger\, CFP\, Steve Marlowe\, Esq.\, Jeffrey M Lasman\, Esq. Additional questions should be directed to Jean Gretzinger  at (813) 289-2975  x221 Class Location: The Continuing Education Academy\, 5111 Ehrlich Rd.\, Ste 130\, Tampa\, FL 33624
X-ALT-DESC;FMTTYPE=text/html:<p style="text-align: center"><span style="font-family: Comic Sans MS"><span><span><span style="font-size: 20px">Construction Business Management Workshop</span></span></span></span></p> <p style="text-align: left"><span style="font-family: Comic Sans MS"><span><span><span style="font-size: 20px"><span style="font-size: 14px">This presentation is designed to make the workshop experience interesting\,&nbsp\;productive and informative.&nbsp\; Most importantly\, you&rsquo\;ll receive the tools and knowledge necessary to help you achieve your elusive goals.</span></span></span></span></span></p> <ul>     <li><span style="font-family: Comic Sans MS"><span><span><span style="font-size: 20px"><span style="font-size: 14px">Asset Protection</span></span></span></span></span></li>     <li><span style="font-family: Comic Sans MS"><span><span><span style="font-size: 20px"><span style="font-size: 14px">Team Building</span></span></span></span></span></li>     <li><span style="font-family: Comic Sans MS"><span><span><span style="font-size: 20px"><span style="font-size: 14px">Estate &amp\; Tax Planning</span></span></span></span></span></li>     <li><span style="font-family: Comic Sans MS"><span><span><span style="font-size: 20px"><span style="font-size: 14px">Selected Retirement Benefits for you and your Key Executives</span></span></span></span></span></li>     <li><span style="font-family: Comic Sans MS"><span><span><span style="font-size: 20px"><span style="font-size: 14px">Innovative Techniques to Recruit and Retain Employees</span></span></span></span></span></li>     <li><span style="font-family: Comic Sans MS"><span><span><span style="font-size: 20px"><span style="font-size: 14px">Evaluating Risk &amp\; Current Liabilities</span></span></span></span></span></li> </ul> <p><span style="font-size: 12px"><span style="font-family: Comic Sans MS"><span><span>Construction Business Management (#0008556/#0007380)\, Asset Protection for Contractors (#0008549/#0007378)</span></span></span></span><span style="font-family: Comic Sans MS"><span><span><span style="font-size: 20px" /></span></span></span></p> <p style="text-align: center">Includes catered Chicken &amp\; Ribs Bar-B-Que lunch!</p> <p style="text-align: center">Seminars Presented by:</p> <p style="text-align: center">Terry L Stanger\, CFP\, Steve Marlowe\, Esq.\, Jeffrey M Lasman\, Esq.</p> <p style="text-align: center">Additional questions should be directed to <b><u>Jean Gretzinger</u></b>&nbsp\; at (813) 289-2975&nbsp\; x221</p> <p style="text-align: center">Class Location: The Continuing Education Academy\, 5111 Ehrlich Rd.\, Ste 130\,&nbsp\;Tampa\, FL 33624&nbsp\;</p>
LOCATION:2918 W Kennedy Blvd Ste 201 Tampa\, FL 33609
UID:e.9442.30
SEQUENCE:3
DTSTAMP:20260424T122934Z
URL:http://tbba.memberzone.com/events/details/continuing-education-construction-business-management-workshop-30
END:VEVENT

END:VCALENDAR
