BEGIN:VCALENDAR
VERSION:2.0
PRODID:-//ChamberMaster//Event Calendar 2.0//EN
METHOD:PUBLISH
X-PUBLISHED-TTL:P3D
REFRESH-INTERVAL:P3D
CALSCALE:GREGORIAN
BEGIN:VEVENT
DTSTART;VALUE=DATE:20080922
DTEND;VALUE=DATE:20080923
TRANSP:TRANSPARENT
X-MICROSOFT-CDO-ALLDAYEVENT:TRUE
SUMMARY:Commercial Builders Council Meeting
DESCRIPTION:TBBA COMMERCIAL BUILDERS COUNCIL The Commercial Builders Council will meet  Monday\, September 22\, 2008 at 3:30pm at the Tampa Bay Builders Association 1st Floor Conference Room If interested in joining the council please click here. Come and join us to see what we are all about!!
X-ALT-DESC;FMTTYPE=text/html:<p><span style="font-size: large" /></p> <p style="text-align: center"><span style="font-size: x-large">TBBA COMMERCIAL BUILDERS COUNCIL</span></p> <p style="text-align: center"><span style="font-size: large">The Commercial Builders Council will meet </span></p> <p style="text-align: center"><span style="font-size: large">Monday\,&nbsp\;September 22\, 2008 at 3:30pm</span></p> <p style="text-align: center"><span style="font-size: large">at the Tampa Bay Builders Association</span></p> <p style="text-align: center"><span style="font-size: large">1st Floor Conference Room</span></p> <p style="text-align: center"><span style="font-size: large">If interested in&nbsp\;joining the council please <a href="http://www.tbba.net/membership/how to join.htm">click here</a>.</span></p> <p style="text-align: center"><span style="font-size: large">Come and join us to see what we are all about!!</span></p>
LOCATION:TBBA\, 1st Floor Conference Room 2918 W. Kennedy Blvd. Tampa\, FL 33609
UID:e.9442.61
SEQUENCE:3
DTSTAMP:20260423T192427Z
URL:http://tbba.memberzone.com/events/details/commercial-builders-council-meeting-09-22-2008-61
END:VEVENT

END:VCALENDAR
