BEGIN:VCALENDAR
VERSION:2.0
PRODID:-//ChamberMaster//Event Calendar 2.0//EN
METHOD:PUBLISH
X-PUBLISHED-TTL:P3D
REFRESH-INTERVAL:P3D
CALSCALE:GREGORIAN
BEGIN:VEVENT
DTSTART;VALUE=DATE:20080825
DTEND;VALUE=DATE:20080826
TRANSP:TRANSPARENT
X-MICROSOFT-CDO-ALLDAYEVENT:TRUE
SUMMARY:Commercial Builders Council Meeting
DESCRIPTION:TBBA COMMERCIAL BUILDERS COUNCIL The Commercial Builders Council will meet   Monday\, August 25\, 2008 - 3:30pm at the Tampa Bay Builders Association 1st Floor Conference Room James Schug of FMI Corporation will be making a presentation on "Boosting Performance: Commercial Considerations" Appetizers will served
X-ALT-DESC;FMTTYPE=text/html:<p><span style="font-size: large" /></p> <p style="text-align: center"><span style="font-size: x-large">TBBA COMMERCIAL BUILDERS COUNCIL</span></p> <p style="text-align: center"><span style="font-size: medium">The Commercial Builders Council will meet&nbsp\; </span></p> <p style="text-align: center"><span style="font-size: medium">Monday\,&nbsp\;August 25\, 2008&nbsp\;- 3:30pm</span></p> <p style="text-align: center"><span style="font-size: medium">at the Tampa Bay Builders Association</span></p> <p style="text-align: center"><span style="font-size: medium">1st Floor Conference Room</span></p> <p style="text-align: center"><span style="font-size: small"><span style="">James Schug of FMI Corporation will be making a presentation on &quot\;Boosting Performance: Commercial Considerations&quot\;</span></span></p> <p style="text-align: center"><span style="font-size: small"><span style="">Appetizers will served</span></span></p>
LOCATION:TBBA\, 1st Floor Conference Room 2918 W. Kennedy Blvd. Tampa\, FL 33609
UID:e.9442.55
SEQUENCE:3
DTSTAMP:20260423T235251Z
URL:http://tbba.memberzone.com/events/details/commercial-builders-council-meeting-08-25-2008-55
END:VEVENT

END:VCALENDAR
