BEGIN:VCALENDAR
VERSION:2.0
PRODID:-//ChamberMaster//Event Calendar 2.0//EN
METHOD:PUBLISH
X-PUBLISHED-TTL:P3D
REFRESH-INTERVAL:P3D
CALSCALE:GREGORIAN
BEGIN:VEVENT
DTSTART:20090324T040000Z
DTEND:20090325T040000Z
X-MICROSOFT-CDO-ALLDAYEVENT:FALSE
SUMMARY:CAPS I and CAPS II
DESCRIPTION:Certified Aging-In-Place Specialist (CAPS) Marketing & Communications Strategies  for Aging & Accessibility (CAPS I)  6 Continuing Education Credits Tuesday\, March 24\, 2009\, 8:00 a.m.   5:00 p.m. This course provides a detailed background on the older adult population\; common remodeling expenditures and projects needed for this market\; and successful communication techniques. Participants also learn how to reach this specialized market.   This course is approved for designation credit for CAPS & MCSP\, and continuing education credit for CAPS\, CGA\, CGB\, CGR\, GMB\, CSP\, Master CSP\, CMP and MIRM.   Design/Build Solutions for Aging & Accessibility (CAPS II) - 6 Continuing Education Credits Wednesday\, March 25\, 2009\, 8:00 a.m.   5:00 p.m. This course provides information on the codes and standards\, common barriers and solutions as well as product ideas and resources for the aging-in-place market.   Click Here to Download Registration Form
X-ALT-DESC;FMTTYPE=text/html:<p>&nbsp\;</p> <div style="margin: 0in 0in 0pt\; text-align: center" align="center"><b><span style="font-size: 14pt">Certified Aging-In-Place Specialist (CAPS)</span></b></div> <div style="margin: 0in 0in 0pt\; text-align: center" align="center"><b><span style="font-size: 14pt">Marketing &amp\; Communications Strategies </span></b></div> <div style="margin: 0in 0in 0pt\; text-align: center" align="center"><b><span style="font-size: 14pt">for Aging &amp\; Accessibility (CAPS I) </span></b></div> <div style="margin: 0in 0in 0pt\; text-align: center" align="center"><b><u>6 Continuing Education Credits</u></b></div> <div style="margin: 0in 0in 0pt\; text-align: center" align="center"><b><span style="font-size: 14pt">Tuesday\, March 24\, 2009</span></b><b><span style="font-size: 14pt">\, 8:00 a.m. &ndash\; 5:00 p.m.</span></b></div> <div style="margin: 0in 0in 0pt" align="center">This course provides a detailed background on the older adult population\; common remodeling expenditures and projects needed for this market\; and successful communication techniques.&nbsp\;Participants also learn how to reach this specialized market.</div> <div style="margin: 0in 0in 0pt" align="center">&nbsp\;</div> <div style="margin: 0in 0in 0pt" align="center">This course is approved for designation credit for CAPS &amp\; MCSP\, and continuing education credit for</div> <div style="margin: 0in 0in 0pt\; text-align: center" align="center">CAPS\, CGA\, CGB\, CGR\, GMB\, CSP\, Master CSP\, CMP and MIRM.</div> <div style="margin: 0in 0in 0pt\; text-align: center" align="center"><b>&nbsp\;</b></div> <div style="margin: 0in 0in 0pt\; text-align: center" align="center"><b><span style="font-size: 14pt">Design/Build Solutions for Aging &amp\; Accessibility</span></b></div> <div style="margin: 0in 0in 0pt\; text-align: center" align="center"><b><span style="font-size: 14pt">(CAPS II) - </span></b><b><u>6 Continuing Education Credits</u></b></div> <div style="margin: 0in 0in 0pt\; text-align: center" align="center"><b><span style="font-size: 14pt">Wednesday\, March 25\, 2009</span></b><b><span style="font-size: 14pt">\, 8:00 a.m. &ndash\; 5:00 p.m.</span></b></div> <div style="margin: 0in 0in 0pt" align="center">This course provides information on the codes and standards\, common barriers and solutions as well as product ideas and resources for the aging-in-place market.</div> <div style="margin: 0in 0in 0pt" align="center">&nbsp\;</div> <div style="margin: 0in 0in 0pt" align="center"><a href="https://builderfusion.tbba.net/bf/messaging/09%20CAPS%20Reg%20Form%20%282%29.doc">Click Here to Download Registration Form</a></div>
LOCATION:2918 W Kennedy Blvd 1st Floor Auditorium Tampa\, FL 33609
UID:e.9442.87
SEQUENCE:3
DTSTAMP:20260421T043900Z
URL:http://tbba.memberzone.com/events/details/caps-i-and-caps-ii-87
END:VEVENT

END:VCALENDAR
