BEGIN:VCALENDAR
VERSION:2.0
PRODID:-//ChamberMaster//Event Calendar 2.0//EN
METHOD:PUBLISH
X-PUBLISHED-TTL:P3D
REFRESH-INTERVAL:P3D
CALSCALE:GREGORIAN
BEGIN:VEVENT
DTSTART:20071113T050000Z
DTEND:20071113T050000Z
X-MICROSOFT-CDO-ALLDAYEVENT:FALSE
SUMMARY:Awards of Excellence Banquet
DESCRIPTION:
X-ALT-DESC;FMTTYPE=text/html:
LOCATION:1010 N WC MacInnis Pl Tampa\, FL 33602
UID:e.9442.524
SEQUENCE:3
DTSTAMP:20260424T142012Z
URL:http://tbba.memberzone.com/events/details/awards-of-excellence-banquet-11-13-2007-524
END:VEVENT

END:VCALENDAR
