BEGIN:VCALENDAR
VERSION:2.0
PRODID:-//ChamberMaster//Event Calendar 2.0//EN
METHOD:PUBLISH
X-PUBLISHED-TTL:P3D
REFRESH-INTERVAL:P3D
CALSCALE:GREGORIAN
BEGIN:VEVENT
DTSTART:20091209T050000Z
DTEND:20091209T050000Z
X-MICROSOFT-CDO-ALLDAYEVENT:FALSE
SUMMARY:An Evening with Bert Kreischer-A TBBA Benefit Fundraiser
DESCRIPTION:
X-ALT-DESC;FMTTYPE=text/html:
LOCATION:711 N Franklin St Tampa\, FL 33602
UID:e.9442.523
SEQUENCE:3
DTSTAMP:20260420T114017Z
URL:http://tbba.memberzone.com/events/details/an-evening-with-bert-kreischer-a-tbba-benefit-fundraiser-523
END:VEVENT

END:VCALENDAR
