BEGIN:VCALENDAR
VERSION:2.0
PRODID:-//ChamberMaster//Event Calendar 2.0//EN
METHOD:PUBLISH
X-PUBLISHED-TTL:P3D
REFRESH-INTERVAL:P3D
CALSCALE:GREGORIAN
BEGIN:VEVENT
DTSTART;VALUE=DATE:20080424
DTEND;VALUE=DATE:20080425
TRANSP:TRANSPARENT
X-MICROSOFT-CDO-ALLDAYEVENT:TRUE
SUMMARY:2008 Spring Parade of Homes Banquet
DESCRIPTION:The Tampa Bay Builders Association proudly presents the Annual Parade of Homes  Awards Banquet    Thursday\, April 24\, 2008   TampaBay Performing ArtsCenter 1010 N WC MacInnes Place\, Tampa (813) 222-1000     6:00 p.m. Cocktails & Dinner Buffets Open 7:30 p.m. Awards Presentation 8:45 p.m. Cocktails\, dessert and networking Semi-Formal Attire - Complimentary valet parking or $5 per car for the parking garage   $65 per ticket *$75 per ticket after April 11th RSVP deadline: Friday\, April 18th Invoicing is an additional $10 and cancellations must be received 48 hours prior to all TBBA events *No reserved seating
X-ALT-DESC;FMTTYPE=text/html:<p>&nbsp\;</p> <div style="margin: 0in 0in 0pt" align="center"><b><i><span style="font-size: 20pt">The Tampa Bay Builders Association proudly presents the Annual Parade of Homes&trade\; Awards Banquet </span></i></b></div> <div style="margin: 0in 0in 0pt" align="center">&nbsp\;</div> <div style="margin: 0in 0in 0pt" align="center"><span style="font-size: 22pt">Thursday\, </span><span style="font-size: 22pt">April 24\, 2008</span></div> <div style="margin: 0in 0in 0pt" align="center">&nbsp\;</div> <div style="margin: 0in 0in 0pt" align="center"><span style="font-size: 22pt">Tampa</span><span style="font-size: 22pt">Bay</span><span style="font-size: 22pt"> Performing </span><span style="font-size: 22pt">Arts</span><span style="font-size: 22pt">Center</span></div> <div style="margin: 0in 0in 0pt" align="center"><span style="font-size: 22pt">1010 N WC MacInnes Place</span><span style="font-size: 22pt">\, </span><span style="font-size: 22pt">Tampa</span></div> <div style="margin: 0in 0in 0pt" align="center"><span style="font-size: 22pt\; color: black">(813) </span><span style="font-size: 22pt\; color: black">222-1000</span></div> <div style="margin: 0in 0in 0pt">&nbsp\;</div> <div style="margin: 0in 0in 0pt">&nbsp\;</div> <div style="margin: 0in 0in 0pt" align="center"><span style="font-size: 14pt">6:00 p.m.</span><span style="font-size: 14pt"> Cocktails &amp\; Dinner Buffets Open</span></div> <div style="margin: 0in 0in 0pt" align="center"><span style="font-size: 14pt">7:30 p.m.</span><span style="font-size: 14pt"> Awards Presentation</span></div> <div style="margin: 0in 0in 0pt" align="center"><span style="font-size: 14pt">8:45 p.m.</span><span style="font-size: 14pt"> Cocktails\, dessert and networking</span></div> <div style="margin: 0in 0in 0pt" align="center"><span style="font-size: 14pt">Semi-Formal Attire - Complimentary valet parking or</span></div> <div style="margin: 0in 0in 0pt" align="center"><span style="font-size: 14pt">$5 per car for the parking garage</span></div> <div style="margin: 0in 0in 0pt" align="center">&nbsp\;</div> <div style="margin: 0in 0in 0pt" align="center"><b><span style="font-size: 14pt">$65 per ticket&nbsp\;</span>*$75 per ticket <u>after</u> April 11th</b></div> <div style="margin: 0in 0in 0pt" align="center"><b><span style="font-size: 14pt">RSVP deadline: Friday\, April 18th</span></b></div> <div style="margin: 0in 0in 0pt" align="center"><b><span style="font-size: 14pt">Invoicing is an additional $10 and cancellations</span></b></div> <div style="margin: 0in 0in 0pt" align="center"><b><span style="font-size: 14pt">must be received 48 hours prior to all TBBA events</span></b></div> <p><b><span style="font-size: 14pt">*No reserved seating</span></b></p>
LOCATION:
UID:e.9442.32
SEQUENCE:3
DTSTAMP:20260424T053952Z
URL:http://tbba.memberzone.com/events/details/2008-spring-parade-of-homes-banquet-32
END:VEVENT

END:VCALENDAR
