BEGIN:VCALENDAR
VERSION:2.0
PRODID:-//ChamberMaster//Event Calendar 2.0//EN
METHOD:PUBLISH
X-PUBLISHED-TTL:P3D
REFRESH-INTERVAL:P3D
CALSCALE:GREGORIAN
BEGIN:VEVENT
DTSTART;VALUE=DATE:20090314
DTEND;VALUE=DATE:20090315
TRANSP:TRANSPARENT
X-MICROSOFT-CDO-ALLDAYEVENT:TRUE
SUMMARY:1st Annual Green Building EXPO
DESCRIPTION:1st Annual Green Building EXPO Saturday March 14\, 2009       Time: 10am-8pm Location: The Shops at Wiregrass\, Wesley Chapel   The 1st Annual Green Building EXPO invites organizations that support our objectives to help produce this first of its kind community event with the goal to raise public awareness on the importance of Green Building techniques for new and existing buildings by way of free education seminars and product demonstrations.    Who can be a sponsor? Sponsors can include companies whose products and operations have significantly reduced environmental impacts\, and move in the direction of long-term sustainability with focus on Green Building and its components. For Sponsorship levels and registration-click here to download forms       Who can be an Exhibitor? Any company that offers GreenBuilding products\, solutions\, services\, education and resources that would help raise public awareness  on the benefits of GreenBuilding and its components. Builder members required to have a minimum of one home certified green or documentation in progress. For Exhibitor information and registration-click here to download forms
X-ALT-DESC;FMTTYPE=text/html:<p class="MsoNormal" style="margin: 0in 0in 0pt\; text-align: center"><span style="font-size: x-large"><span style="color: #00cc33" /></span><span style="font-size: 14pt\; mso-bidi-font-size: 12.0pt" /></p> <p style="text-align: center">&nbsp\;<span style="font-size: medium" /><span style="font-size: medium">&nbsp\;</span><b><span style="font-size: 24pt\; color: #339933">1<sup>st</sup> Annual Green Building </span></b><b><span style="font-size: 24pt\; color: #339933">EXPO</span></b></p> <div style="margin: 0in 0in 0pt" align="center"><b><font size="6"><span style="font-size: 18pt\; color: windowtext">Saturday </span><span style="font-size: 18pt\; color: windowtext">March 14\, 2009</span><span style="font-size: 18pt\; color: windowtext">&nbsp\;&nbsp\;&nbsp\;&nbsp\;&nbsp\; </span></font></b></div> <div style="margin: 0in 0in 0pt" align="center"><b><font size="6"><span style="font-size: 18pt\; color: windowtext">Time:&nbsp\;</span><span style="font-size: 18pt\; color: windowtext">10am</span><span style="font-size: 18pt\; color: windowtext">-8pm</span></font></b></div> <div style="margin: 0in 0in 0pt" align="center"><b><font size="3"><b><span style="font-size: 18pt">Location:&nbsp\;The Shops at Wiregrass\, Wesley Chapel</span></b></font></b></div> <div style="margin: 0in 0in 0pt">&nbsp\;</div> <div style="margin: 0in 0in 0pt"><span style="font-size: medium">The 1st Annual Green Building EXPO invites organizations that support our objectives to help produce this first of its kind community event with the goal to raise public awareness on the importance of Green Building techniques for new and existing buildings by way of free education seminars and product demonstrations</span>.&nbsp\;</div> <div style="margin: 0in 0in 0pt">&nbsp\;</div> <div style="margin: 0in 0in 0pt"><span style="font-size: medium"><b>Who can be a sponsor? </b>Sponsors can include companies whose products and operations have significantly reduced environmental impacts\, and move in the direction of long-term sustainability with focus on Green Building and its components.&nbsp\;For Sponsorship levels and registration-</span><span style="font-size: medium"><a href="https://builderfusion.tbba.net/bf/messaging/Green%20EXPO%20Sponsor%20Agreement.doc">click here to download forms</a></span></div> <div style="margin: 0in 0in 0pt">&nbsp\;</div> <div style="margin: 0in 0in 0pt"><span style="font-size: medium"><b>&nbsp\;&nbsp\;&nbsp\; Who can be an Exhibitor? </b>Any company that offers GreenBuilding products\, solutions\, services\, education and resources that would help raise public awareness&nbsp\; on the benefits of GreenBuilding and its components.&nbsp\;Builder members required to have a minimum of one home certified green or documentation in progress.&nbsp\;For Exhibitor information and registration-</span><span style="font-size: 12pt"><span style="font-size: medium"><a href="https://builderfusion.tbba.net/bf/messaging/REDUCED%20RATES.pdf">click here to download forms</a></span></span></div> <p>&nbsp\;</p>
LOCATION:28211 Paseo Dr Wesley Chapel\, FL 33543
UID:e.9442.86
SEQUENCE:3
DTSTAMP:20260421T025917Z
URL:http://tbba.memberzone.com/events/details/1st-annual-green-building-expo-86
END:VEVENT

END:VCALENDAR
