BEGIN:VCALENDAR
VERSION:2.0
PRODID:-//ChamberMaster//Event Calendar 2.0//EN
METHOD:PUBLISH
X-PUBLISHED-TTL:P3D
REFRESH-INTERVAL:P3D
CALSCALE:GREGORIAN
BEGIN:VEVENT
DTSTART;VALUE=DATE:20080522
DTEND;VALUE=DATE:20080523
TRANSP:TRANSPARENT
X-MICROSOFT-CDO-ALLDAYEVENT:TRUE
SUMMARY:05/22/2008 ''How To Build A Powerful Sales Team''
DESCRIPTION:Join TBBA and the Sales And Marketing Council  "How to Build a Powerful Sales Team"                                                       This program is geared for anyone in a leadership role!                                          Presented by Rick J. Gallegos       Thursday\, May 22\, 2008   Tampa Bay Builders Association Auditorium 2918 W. Kennedy Blvd\, Tampa   6:00 p.m.   Registration Heavy hors d'oeuvres Cash Bar          7:20 p.m. - Program   $35.00 TBBA Members/$45.00 Non-Members & Walk-ins    \n    RSVP to TBBA by Tuesday\, May 20th   Contact Jane at (813) 873-1000\, ext. 410 or by e-mail at Jane@tbba.net for questions.
X-ALT-DESC;FMTTYPE=text/html:<p>&nbsp\;</p> <div style="margin: 0in 0in 0pt" align="center"><span style="font-size: 24px"><span><span>Join TBBA </span><span>and</span><span> the Sales </span><span>And</span><span> Marketing Council </span></span></span><span style="font-size: 27px" /></div> <div style="margin: 0in 0in 0pt" align="center"><span style="font-size: 24px"><span><span><span><b><span>&ldquo\;How to Build a Powerful Sales </span></b><b><span>Team</span></b><b><span>&rdquo\;</span></b></span></span></span></span></div> <p style="margin: 0in 0in 0pt" align="center"> <table cellspacing="0" cellpadding="0" width="100%">     <tbody>         <tr>             <td style="border-right: #ece9d8\; border-top: #ece9d8\; border-left: #ece9d8\; border-bottom: #ece9d8\; background-color: transparent">             <div>             <div style="margin: 0in 0in 0pt" align="center"><b><span style="font-size: 10pt">This program is geared for anyone in a leadership role!</span></b></div>             </div>             </td>         </tr>     </tbody> </table> <span style="font-size: 22px"><span><span><span>Presented by Rick J. Gallegos</span></span></span><span /></span></p> <div style="margin: 0in 0in 0pt\; line-height: 50%" align="center"><span style="font-size: 22px"><span>&nbsp\;</span></span></div> <div style="margin: 0in 0in 0pt\; line-height: 50%">&nbsp\;</div> <div style="margin: 0in 0in 0pt\; line-height: 20%">&nbsp\;</div> <div style="margin: 0in 0in 0pt" align="center"><span style="font-size: 24px"><span><b><span style="color: black">Thursday\, </span></b><b><span style="color: black">May 22\, 2008</span></b></span></span></div> <div style="margin: 0in 0in 0pt\; line-height: 50%" align="center"><span style="font-size: 24px">&nbsp\;</span></div> <div style="margin: 0in 0in 0pt" align="center">Tampa Bay Builders Association Auditorium</div> <div style="margin: 0in 0in 0pt" align="center">2918 W. Kennedy Blvd\, Tampa</div> <div style="margin: 0in 0in 0pt\; line-height: 20%" align="center"><span style="font-size: 27px">&nbsp\;</span></div> <div style="margin: 0in 0in 0pt" align="center"><span style="font-size: 22px"><span><span><span>6:00 p.m. &ndash\; Registration Heavy </span><span style="font-weight: normal">hors d&rsquo\;oeuvres</span><span> Cash Bar&nbsp\;&nbsp\;&nbsp\;&nbsp\;&nbsp\;&nbsp\;&nbsp\;&nbsp\; </span></span></span></span></div> <div style="margin: 0in 0in 0pt" align="center"><span style="font-size: 22px"><span><span style="color: black">7:20 p.m. - Program</span></span></span></div> <div style="margin: 0in 0in 0pt\; line-height: 50%" align="center"><span style="font-size: 22px"><span>&nbsp\;</span></span><span style="font-size: 24px" /></div> <div style="margin: 0in 0in 0pt" align="center"><span style="font-size: 22px"><span><span style="letter-spacing: 1pt">$35.00 TBBA Members/$45.00 Non-Members &amp\; Walk-ins</span></span></span></div> <div style="margin: 0in 0in 0pt\; line-height: 50%" align="center"><span style="font-size: 22px"><span>&nbsp\;</span></span><span style="font-size: 24px" /></div> <p style="margin: 0in 0in 0pt" align="center"><span style="font-size: 27px" /></p> <div style="margin: 0in 0in 0pt\; line-height: 50%" align="center"><span style="font-size: 27px"><br clear="all" /> </span></div> <div style="margin: 0in 0in 0pt\; line-height: 50%" align="center">&nbsp\;</div> <div style="margin: 0in 0in 0pt" align="center"><span style="color: black">RSVP to </span><span style="color: black">TBBA</span><span style="color: black"> by Tuesday\, May 20th&nbsp\;&nbsp\;</span></div> <div style="margin: 0in 0in 0pt" align="center"><span style="color: black">Contact Jane at </span><span style="color: black">(813) </span><span style="color: black">873-1000</span><span style="color: black">\, </span>ext. 410 or by e-mail at <a href="mailto:Jane@tbba.net"><span style="color: windowtext">Jane@tbba.net</span></a> for questions.</div> <div style="margin: 0in 0in 0pt\; line-height: 50%" align="center"><b>&nbsp\;</b></div>
LOCATION:
UID:e.9442.37
SEQUENCE:3
DTSTAMP:20260424T024432Z
URL:http://tbba.memberzone.com/events/details/05-22-2008-how-to-build-a-powerful-sales-team-37
END:VEVENT

END:VCALENDAR
