BEGIN:VCALENDAR
VERSION:2.0
PRODID:-//ChamberMaster//Event Calendar 2.0//EN
METHOD:PUBLISH
X-PUBLISHED-TTL:P3D
REFRESH-INTERVAL:P3D
CALSCALE:GREGORIAN
BEGIN:VEVENT
DTSTART;VALUE=DATE:20080514
DTEND;VALUE=DATE:20080515
TRANSP:TRANSPARENT
X-MICROSOFT-CDO-ALLDAYEVENT:TRUE
SUMMARY:05/14/2008-Safety Alliance Council-OSHA 10 Hour (Part II)
DESCRIPTION:OSHA 10 Hour What: OSHA 10 Hour- This course is designed for construction workers\, foremen\, job supervisors\, and anyone involved in the construction industry. OSHA recommends Outreach Training Program courses as an orientation to occupational safety and health for workers covered by OSHA 29 CFR 1926. Workers must receive additional training\, when required by OSHA standards\, on the specific hazards of the job. Upon successful completion of the course\, participants will receive an OSHA 10-Hour Construction Outreach DOL course completion card.      When:    Wednesday\, April 9\, 12:00 p.m.- 5:00 p.m. and                       Wednesday\, May 14\, 12:00 p.m.-5:00 p.m.   Where:  TampaBay Builders Association Auditorium                            2918 W. Kennedy Blvd                           Tampa\, Florida 33609   This course is complimentary to individuals whose company is a member of the Safety Alliance of Tampa Bay. Please note: The completed form must be faxed back to Attention Krista at (813) 874-1000 no later than Tuesday\, April 8 to attend. Seating is limited.
X-ALT-DESC;FMTTYPE=text/html:<p style="text-align: center"><span style="font-size: 30px"><span><span><strong>OSHA 10 Hour</strong></span></span></span><span style="font-size: 21px"><span /></span><span style="font-size: 14px" /></p> <div style="margin: 0in 0in 0pt"><b><span style="font-size: 14pt">What:&nbsp\;</span></b><b>OSHA 10 Hour- </b><span style="font-size: 11pt">This course is designed for construction workers\, foremen\, job supervisors\, and anyone involved in the construction industry. OSHA recommends Outreach Training Program courses as an orientation to occupational safety and health for workers covered by OSHA 29 </span><span style="font-size: 11pt">CFR</span><span style="font-size: 11pt"> 1926. Workers must receive additional training\, when required by OSHA standards\, on the specific hazards of the job. Upon successful completion of the course\, participants will receive an OSHA 10-Hour Construction Outreach </span><span style="font-size: 11pt">DOL</span><span style="font-size: 11pt"> course completion card. </span></div> <div style="margin: 0in 0in 0pt">&nbsp\;</div> <div style="margin: 0in 0in 0pt 54.6pt\; text-indent: -72.6pt"><b><font size="6">&nbsp\;&nbsp\;</font></b><b><span style="font-size: 14pt">When: &nbsp\;&nbsp\;&nbsp\;</span></b><b><span style="font-size: 12pt">Wednesday\, </span></b><b><span style="font-size: 12pt">April 9\, 12</span></b><b><span style="font-size: 12pt">:00 p.m.- 5:00 p.m.</span></b><span style="font-size: 12pt"> and </span></div> <div style="margin: 0in 0in 0pt 54.6pt\; text-indent: -72.6pt"><b><span style="font-size: 14pt">&nbsp\;&nbsp\;&nbsp\;&nbsp\;&nbsp\;&nbsp\;&nbsp\;&nbsp\;&nbsp\;&nbsp\;&nbsp\;&nbsp\;&nbsp\;&nbsp\;&nbsp\;&nbsp\;&nbsp\;&nbsp\;&nbsp\;&nbsp\; </span></b><b><span style="font-size: 12pt">Wednesday\, </span></b><b><span style="font-size: 12pt">May 14\, 12</span></b><b><span style="font-size: 12pt">:00 p.m.-5:00 p.m.</span></b></div> <div style="margin: 0in 0in 0pt 54.6pt\; text-indent: -72.6pt">&nbsp\;</div> <div style="margin: 0in 0in 0pt"><b><span style="font-size: 14pt\; color: black">Where: &nbsp\;</span></b><span style="color: black">Tampa</span><span style="color: black">Bay</span><span style="color: black"> Builders Association Auditorium </span></div> <div style="margin: 0in 0in 0pt\; line-height: 12pt"><span style="color: black">&nbsp\;&nbsp\;&nbsp\;&nbsp\;&nbsp\;&nbsp\;&nbsp\;&nbsp\;&nbsp\;&nbsp\;&nbsp\;&nbsp\;&nbsp\;&nbsp\;&nbsp\;&nbsp\;&nbsp\;&nbsp\;&nbsp\;&nbsp\;&nbsp\;&nbsp\;&nbsp\;&nbsp\; &nbsp\;2918 </span><span style="color: black">W. Kennedy Blvd</span></div> <div style="margin: 0in 0in 0pt\; line-height: 12pt"><span style="color: black">&nbsp\;&nbsp\;&nbsp\;&nbsp\;&nbsp\;&nbsp\;&nbsp\;&nbsp\;&nbsp\;&nbsp\;&nbsp\;&nbsp\;&nbsp\;&nbsp\;&nbsp\;&nbsp\; &nbsp\;&nbsp\;&nbsp\;&nbsp\;&nbsp\;&nbsp\;&nbsp\;&nbsp\; </span><span style="color: black">Tampa</span><span style="color: black">\, </span><span style="color: black">Florida 33609</span></div> <div style="margin: 0in 0in 0pt\; line-height: 12pt">&nbsp\;</div> <div style="margin: 0in 0in 0pt\; line-height: 12pt">This course is complimentary to individuals whose company is a member of the Safety Alliance of Tampa Bay.</div> <div style="margin: 0in 0in 0pt\; line-height: 12pt"><b>Please note: </b>The completed form must be faxed back to <u>Attention Krista</u> at (813) 874-1000 no later than Tuesday\, April 8 to attend. <b>Seating is limited.</b></div> <div style="margin: 0in 0in 0pt\; line-height: 12pt">&nbsp\;</div>
LOCATION:2918 W Kennedy Blvd 1st Floor Auditorium Tampa\, FL 33609
UID:e.9442.35
SEQUENCE:3
DTSTAMP:20260424T042357Z
URL:http://tbba.memberzone.com/events/details/05-14-2008-safety-alliance-council-osha-10-hour-part-ii-35
END:VEVENT

END:VCALENDAR
