BEGIN:VCALENDAR
VERSION:2.0
PRODID:-//ChamberMaster//Event Calendar 2.0//EN
METHOD:PUBLISH
X-PUBLISHED-TTL:P3D
REFRESH-INTERVAL:P3D
CALSCALE:GREGORIAN
BEGIN:VEVENT
DTSTART;VALUE=DATE:20080318
DTEND;VALUE=DATE:20080319
TRANSP:TRANSPARENT
X-MICROSOFT-CDO-ALLDAYEVENT:TRUE
SUMMARY:03/18/2008 ''The Construction Comic''
DESCRIPTION:TBBA and the Sales And Marketing Council  \n   Join us for "The Construction Comic!"   Carmen Ciricillo\, Contractors Educational Services\, is a favorite performer for construction associations like Associated Builders and Contractors\, Associated General Contractors\, National Association of Home Builders and corporations like DuPont\, Carrier\, Ryland\, Centex\, U.S. Home and many more. He has performed at comedy clubs from Vegas to NYC.  Carmen has written and sold material to Jay Leno for "The Tonight Show\," toured with NASCAR and for three seasons appeared on the Discovery Channel's "Your New House" TV show. Carmen currently can be heard on XM and Sirius satellite radio.   YOU'LL LAUGH\, YOU'LL CRY\, YOU'LL BE INSPIRED\, YOU'LL BE MOTIVATED!     Tuesday\, March 18\, 2008   6:00 p.m.- Registration and Networking 6:45 p.m.- Italian dinner buffet opens 7:30 p.m.- Program   Tampa Improv 1600 E. 8th Avenue\, Centro Ybor\, Tampa (813) 864-4000   $45.00 Members/$60.00 Non-Members & Walk-ins
X-ALT-DESC;FMTTYPE=text/html:<p>&nbsp\;</p> <div style="margin: 0in 0in 0pt" align="center"><span style="font-size: 20pt">TBBA </span><span style="font-size: 20pt">and</span><span style="font-size: 20pt"> the Sales </span><span style="font-size: 20pt">And</span><span style="font-size: 20pt"> Marketing Council </span></div> <div style="margin: 0in 0in 0pt" align="center"><br clear="all" /> &nbsp\;</div> <div style="margin: 0in 0in 0pt" align="center"><b><span style="font-size: 30pt">Join us for &ldquo\;The Construction Comic!&rdquo\;</span></b></div> <div style="margin: 0in 0in 0pt\; line-height: 50%" align="center"><b>&nbsp\;</b></div> <div style="margin: 0in 0in 0pt">Carmen Ciricillo\, Contractors Educational Services\, is a favorite performer for construction associations like <b>Associated Builders and Contractors\, Associated General Contractors\, National Association of Home Builders</b> and corporations like <b>DuPont\, Carrier\, Ryland\, Centex\, U.S. Home</b> and many more. He has performed at comedy clubs from Vegas to NYC.&nbsp\; Carmen has written and sold material to <b>Jay Leno for &ldquo\;The Tonight Show\,&rdquo\;</b> toured with <b>NASCAR</b> and for three seasons appeared on the <b>Discovery Channel&rsquo\;s &ldquo\;Your New House&rdquo\;</b> TV show. Carmen currently can be heard on XM and Sirius satellite radio.</div> <div style="margin: 0in 0in 0pt">&nbsp\;</div> <div style="margin: 0in 0in 0pt" align="center"><b>YOU&rsquo\;LL LAUGH\, YOU&rsquo\;LL </b><b>CRY</b><b>\, YOU&rsquo\;LL BE INSPIRED\, YOU&rsquo\;LL BE MOTIVATED!</b></div> <div style="margin: 0in 0in 0pt" align="center">&nbsp\;</div> <div style="margin: 0in 0in 0pt\; line-height: 30%" align="center">&nbsp\;</div> <div style="margin: 0in 0in 0pt" align="center"><b><span style="font-size: 22pt">Tuesday\, </span></b><b><span style="font-size: 22pt">March 18\, 2008</span></b></div> <div style="margin: 0in 0in 0pt\; line-height: 30%" align="center">&nbsp\;</div> <div style="margin: 0in 0in 0pt" align="center"><span style="font-size: 14pt">6:00 p.m.-</span><span style="font-size: 14pt"> Registration and Networking</span></div> <div style="margin: 0in 0in 0pt" align="center"><span style="font-size: 14pt">6:45 p.m.-</span><span style="font-size: 14pt"> Italian dinner buffet opens</span></div> <div style="margin: 0in 0in 0pt" align="center"><span style="font-size: 14pt">7:30 p.m.-</span><span style="font-size: 14pt"> Program</span></div> <div style="margin: 0in 0in 0pt" align="center">&nbsp\;</div> <div style="margin: 0in 0in 0pt" align="center">Tampa Improv</div> <div style="margin: 0in 0in 0pt" align="center">1600 E. 8th Avenue\, Centro Ybor\, Tampa</div> <div style="margin: 0in 0in 0pt" align="center">(813) 864-4000</div> <div style="margin: 0in 0in 0pt" align="center">&nbsp\;</div> <div style="margin: 0in 0in 0pt" align="center"><b><span style="font-size: 16pt">$45.00 Members/$60.00 Non-Members &amp\; Walk-ins</span></b></div> <div style="margin: 0in 0in 0pt" align="center">&nbsp\;</div>
LOCATION:
UID:e.9442.22
SEQUENCE:3
DTSTAMP:20260424T070358Z
URL:http://tbba.memberzone.com/events/details/03-18-2008-the-construction-comic-22
END:VEVENT

END:VCALENDAR
