BEGIN:VCALENDAR
VERSION:2.0
PRODID:-//ChamberMaster//Event Calendar 2.0//EN
METHOD:PUBLISH
X-PUBLISHED-TTL:P3D
REFRESH-INTERVAL:P3D
CALSCALE:GREGORIAN
BEGIN:VEVENT
DTSTART;VALUE=DATE:20080310
DTEND;VALUE=DATE:20080311
TRANSP:TRANSPARENT
X-MICROSOFT-CDO-ALLDAYEVENT:TRUE
SUMMARY:03/10/08 Effictive Marketing on a Shoestring Budget
DESCRIPTION:
X-ALT-DESC;FMTTYPE=text/html:
LOCATION:
UID:e.9442.20
SEQUENCE:3
DTSTAMP:20260424T053951Z
URL:http://tbba.memberzone.com/events/details/03-10-08-effictive-marketing-on-a-shoestring-budget-20
END:VEVENT

END:VCALENDAR
