BEGIN:VCALENDAR
VERSION:2.0
PRODID:-//ChamberMaster//Event Calendar 2.0//EN
METHOD:PUBLISH
X-PUBLISHED-TTL:P3D
REFRESH-INTERVAL:P3D
CALSCALE:GREGORIAN
BEGIN:VEVENT
DTSTART;VALUE=DATE:20080305
DTEND;VALUE=DATE:20080306
TRANSP:TRANSPARENT
X-MICROSOFT-CDO-ALLDAYEVENT:TRUE
SUMMARY:03/05/08-Sales & Marketing Directors Round Table
DESCRIPTION:Sales & Marketing Directors Round Table   Wednesday\, March 5\, 2008\, 12:00PM     Hosted by:   CENTEX HOMES CORPORATE OFFICE 3020 S Falkenburg Rd Riverview\, FL33569   Moderated by Reed Williams of Pulte Homes   Luncheon $20.00 per person (Please advise of special dietary needs)
X-ALT-DESC;FMTTYPE=text/html:<p>&nbsp\;</p> <div style="margin: 0in 0in 0pt" align="center"><b><i><span style="font-size: 18pt">Sales &amp\; Marketing Directors Round Table</span></i></b></div> <div style="margin: 0in 0in 0pt" align="center"><b>&nbsp\;</b></div> <div style="margin: 0in 0in 0pt" align="center"><span style="font-size: 14pt">Wednesday\, </span><span style="font-size: 14pt">March 5\, 2008</span><span style="font-size: 14pt">\, </span><span style="font-size: 14pt">12:00PM</span></div> <div style="margin: 0in 0in 0pt" align="center">&nbsp\;</div> <div style="margin: 0in 0in 0pt" align="center">&nbsp\;</div> <div style="margin: 0in 0in 0pt" align="center"><span style="font-size: 14pt">Hosted by:</span></div> <div style="margin: 0in 0in 0pt" align="center">&nbsp\;</div> <div style="margin: 0in 0in 0pt" align="center"><span style="font-size: 14pt">CENTEX HOMES CORPORATE OFFICE</span></div> <div style="margin: 0in 0in 0pt" align="center"><span style="font-size: 14pt">3020 S Falkenburg Rd</span></div> <div style="margin: 0in 0in 0pt" align="center"><span style="font-size: 14pt">Riverview</span><span style="font-size: 14pt">\, </span><span style="font-size: 14pt">FL</span><span style="font-size: 14pt">33569</span></div> <div style="margin: 0in 0in 0pt" align="center">&nbsp\;</div> <div style="margin: 0in 0in 0pt" align="center"><span style="font-size: 14pt">Moderated by Reed Williams of Pulte Homes</span></div> <div style="margin: 0in 0in 0pt" align="center">&nbsp\;</div> <div style="margin: 0in 0in 0pt" align="center"><span style="font-size: 14pt">Luncheon $20.00 per person</span></div> <div style="margin: 0in 0in 0pt" align="center"><span style="font-size: 14pt">(Please advise of special dietary needs)</span></div>
LOCATION:
UID:e.9442.18
SEQUENCE:3
DTSTAMP:20260424T053951Z
URL:http://tbba.memberzone.com/events/details/03-05-08-sales-marketing-directors-round-table-18
END:VEVENT

END:VCALENDAR
